BEGIN:VCALENDAR
VERSION:2.0
PRODID:-//मराठी असोसिएशन ऑफ मिनेसोटा - ECPv6.15.20//NONSGML v1.0//EN
CALSCALE:GREGORIAN
METHOD:PUBLISH
X-WR-CALNAME:मराठी असोसिएशन ऑफ मिनेसोटा
X-ORIGINAL-URL:https://www.mnmarathi.org
X-WR-CALDESC:Events for मराठी असोसिएशन ऑफ मिनेसोटा
REFRESH-INTERVAL;VALUE=DURATION:PT1H
X-Robots-Tag:noindex
X-PUBLISHED-TTL:PT1H
BEGIN:VTIMEZONE
TZID:America/Chicago
BEGIN:DAYLIGHT
TZOFFSETFROM:-0600
TZOFFSETTO:-0500
TZNAME:CDT
DTSTART:20250309T080000
END:DAYLIGHT
BEGIN:STANDARD
TZOFFSETFROM:-0500
TZOFFSETTO:-0600
TZNAME:CST
DTSTART:20251102T070000
END:STANDARD
BEGIN:DAYLIGHT
TZOFFSETFROM:-0600
TZOFFSETTO:-0500
TZNAME:CDT
DTSTART:20260308T080000
END:DAYLIGHT
BEGIN:STANDARD
TZOFFSETFROM:-0500
TZOFFSETTO:-0600
TZNAME:CST
DTSTART:20261101T070000
END:STANDARD
BEGIN:DAYLIGHT
TZOFFSETFROM:-0600
TZOFFSETTO:-0500
TZNAME:CDT
DTSTART:20270314T080000
END:DAYLIGHT
BEGIN:STANDARD
TZOFFSETFROM:-0500
TZOFFSETTO:-0600
TZNAME:CST
DTSTART:20271107T070000
END:STANDARD
END:VTIMEZONE
BEGIN:VEVENT
DTSTART;TZID=America/Chicago:20260516T150000
DTEND;TZID=America/Chicago:20260516T200000
DTSTAMP:20260423T143345
CREATED:20260415T020914Z
LAST-MODIFIED:20260415T020915Z
UID:4702-1778943600-1778961600@www.mnmarathi.org
SUMMARY:Vasant Bahar
DESCRIPTION:Program Outline:3:00 pm – 4.00 pm: Registration.4:00 pm – 6:00 pm: Natak6:15 pm – 8:00 pm:  Fun Fair and Marathi Food Festival
URL:https://www.mnmarathi.org/event/vasant-bahar-2/
LOCATION:Fridley High School\, 6000 W Moore Lake Dr NE\, Minneapolis\, Minnesota\, 55432\, United States
END:VEVENT
END:VCALENDAR