BEGIN:VCALENDAR
VERSION:2.0
PRODID:-//मराठी असोसिएशन ऑफ मिनेसोटा - ECPv6.15.20//NONSGML v1.0//EN
CALSCALE:GREGORIAN
METHOD:PUBLISH
X-ORIGINAL-URL:https://www.mnmarathi.org
X-WR-CALDESC:Events for मराठी असोसिएशन ऑफ मिनेसोटा
REFRESH-INTERVAL;VALUE=DURATION:PT1H
X-Robots-Tag:noindex
X-PUBLISHED-TTL:PT1H
BEGIN:VTIMEZONE
TZID:America/Chicago
BEGIN:DAYLIGHT
TZOFFSETFROM:-0600
TZOFFSETTO:-0500
TZNAME:CDT
DTSTART:20240310T080000
END:DAYLIGHT
BEGIN:STANDARD
TZOFFSETFROM:-0500
TZOFFSETTO:-0600
TZNAME:CST
DTSTART:20241103T070000
END:STANDARD
BEGIN:DAYLIGHT
TZOFFSETFROM:-0600
TZOFFSETTO:-0500
TZNAME:CDT
DTSTART:20250309T080000
END:DAYLIGHT
BEGIN:STANDARD
TZOFFSETFROM:-0500
TZOFFSETTO:-0600
TZNAME:CST
DTSTART:20251102T070000
END:STANDARD
BEGIN:DAYLIGHT
TZOFFSETFROM:-0600
TZOFFSETTO:-0500
TZNAME:CDT
DTSTART:20260308T080000
END:DAYLIGHT
BEGIN:STANDARD
TZOFFSETFROM:-0500
TZOFFSETTO:-0600
TZNAME:CST
DTSTART:20261101T070000
END:STANDARD
END:VTIMEZONE
BEGIN:VEVENT
DTSTART;TZID=America/Chicago:20251005T180000
DTEND;TZID=America/Chicago:20251005T220000
DTSTAMP:20260423T230411
CREATED:20250911T183303Z
LAST-MODIFIED:20250911T183454Z
UID:4528-1759687200-1759701600@www.mnmarathi.org
SUMMARY:Dandiya / Bhondla 2025
DESCRIPTION:Step into a night of rhythm\, color\, and celebration at the MAM Dandiya & Bhondla Night 2025! Join us for an unforgettable evening filled with traditional beats\, graceful moves\, and the joyful spirit of togetherness. From the lively Dandiya Raas to the cherished Bhondla songs\, this cultural fusion promises fun for all ages. Whether you come to dance\, sing\, or simply soak in the festive vibes\, get ready for a night that captures the heart of our community’s traditions. \n\n\n\n\n\n\n\nThis event is a perfect blend of tradition and fun\, offering a cultural experience that’s both lively and meaningful. Bring your friends and family\, dress in your finest traditional wear\, and get ready to dance the night away!
URL:https://www.mnmarathi.org/event/dandiya-bhondla-2025/
LOCATION:Eden Prairie Central Middle School – Cafeteria\, 8025 School Rd\,\, Eden Prairie\, MN\, 55344\, United States
ATTACH;FMTTYPE=image/jpeg:https://www.mnmarathi.org/wp-content/uploads/2025/09/PHOTO-2025-09-10-22-28-27.jpg
END:VEVENT
END:VCALENDAR