BEGIN:VCALENDAR
VERSION:2.0
PRODID:-//मराठी असोसिएशन ऑफ मिनेसोटा - ECPv6.15.20//NONSGML v1.0//EN
CALSCALE:GREGORIAN
METHOD:PUBLISH
X-WR-CALNAME:मराठी असोसिएशन ऑफ मिनेसोटा
X-ORIGINAL-URL:https://www.mnmarathi.org
X-WR-CALDESC:Events for मराठी असोसिएशन ऑफ मिनेसोटा
REFRESH-INTERVAL;VALUE=DURATION:PT1H
X-Robots-Tag:noindex
X-PUBLISHED-TTL:PT1H
BEGIN:VTIMEZONE
TZID:America/Chicago
BEGIN:DAYLIGHT
TZOFFSETFROM:-0600
TZOFFSETTO:-0500
TZNAME:CDT
DTSTART:20240310T080000
END:DAYLIGHT
BEGIN:STANDARD
TZOFFSETFROM:-0500
TZOFFSETTO:-0600
TZNAME:CST
DTSTART:20241103T070000
END:STANDARD
BEGIN:DAYLIGHT
TZOFFSETFROM:-0600
TZOFFSETTO:-0500
TZNAME:CDT
DTSTART:20250309T080000
END:DAYLIGHT
BEGIN:STANDARD
TZOFFSETFROM:-0500
TZOFFSETTO:-0600
TZNAME:CST
DTSTART:20251102T070000
END:STANDARD
BEGIN:DAYLIGHT
TZOFFSETFROM:-0600
TZOFFSETTO:-0500
TZNAME:CDT
DTSTART:20260308T080000
END:DAYLIGHT
BEGIN:STANDARD
TZOFFSETFROM:-0500
TZOFFSETTO:-0600
TZNAME:CST
DTSTART:20261101T070000
END:STANDARD
END:VTIMEZONE
BEGIN:VEVENT
DTSTART;TZID=America/Chicago:20250713T160000
DTEND;TZID=America/Chicago:20250713T210000
DTSTAMP:20260424T040909
CREATED:20250308T172130Z
LAST-MODIFIED:20250708T203738Z
UID:4304-1752422400-1752440400@www.mnmarathi.org
SUMMARY:MAM Picnic
DESCRIPTION:Minnesota चा उन्हाळा सुरु झाल्यावर आपण सगळे आपल्या मंडळाच्या सहलीची आतुरतेने वाट पाहत असता! तेव्हा दरवर्षीप्रमाणे या वर्षीही आम्ही घेऊन येत आहोत आपली MAM पिकनिक!! तयार आहात ना भरपूर खेळ\, नाच गाणी आणि निसर्गाच्या सान्निध्यात जेवणाचा आनंद घ्यायला? मंडळातर्फे आम्ही तयार आहोत\, आणि तुमच्या RSVP ची वाट बघतोय! जास्त वाट बघायला लावू नका\, पटकन RSVP करा!!!.  \n\n\n\nSummer has arrived in Minnesota\, and we know you’re all excited to enjoy the outdoors. So\, mark your calendars for the MAM Picnic on Sunday\, July 13th\, from 4 PM to 9 PM. There will be activities for the entire family ! We will communicate the picnic theme soon. In the meantime\, please RSVP for the Picnic so we can better plan the event. \n\n\n\nThe picnic event is for all members and non-members.Pricing:          Members –  Free           Member extended family –  $15 per personNon-members –         Adults –  $20 per person         Kids –  $10 per person         Kids – Below age 5 years old– Free \n\n\n\nPayment Options: \n\n\n\n#1. Zelle \n\n\n\no   Send Money to “epaymam@gmail.com“ \n\n\n\no   Add Note* : Your Name & Email Address & Contact number \n\n\n\no   Review the transaction details & complete the transfer \n\n\n\no   Please update the Transaction# & Amount field below. \n\n\n\nOR  \n\n\n\nSend an email to mam.committee@gmail.com and also share your transaction confirmation number after the successful completion of payment. Program outline: \n\n\n\nPicnicJuly 13th Sunday4:00PM to 5:00PMRegistration\, Social Hour Sunday5:00PM to 6:30PMGames and group activitiesSunday6:30PM to 8:00PMDinnerSunday8:00PM to 9:00PMPicnic Wrap up\n\n\n\n \n\n\n\nWhat to bring with you: \n\n\n\nFeel free to get your own picnic chairs/mats\, volleyball/basketball\, badminton racquets/net/shuttles\, Frisbee\, hula hoop\, bug repellent and sunscreen.Please bring your own water-bottles . \n\n\n\nWe have a fun-filled event planned for you and look forward to see you all at the MAM Picnic .
URL:https://www.mnmarathi.org/event/mam-picnic/
LOCATION:Bush Lake (Shelter #1)\, 9098 E Bush Lake Rd\, Bloomington\, Minnesota\, 55438\, United States
END:VEVENT
END:VCALENDAR