BEGIN:VCALENDAR
VERSION:2.0
PRODID:-//मराठी असोसिएशन ऑफ मिनेसोटा - ECPv6.15.20//NONSGML v1.0//EN
CALSCALE:GREGORIAN
METHOD:PUBLISH
X-ORIGINAL-URL:https://www.mnmarathi.org
X-WR-CALDESC:Events for मराठी असोसिएशन ऑफ मिनेसोटा
REFRESH-INTERVAL;VALUE=DURATION:PT1H
X-Robots-Tag:noindex
X-PUBLISHED-TTL:PT1H
BEGIN:VTIMEZONE
TZID:America/Chicago
BEGIN:DAYLIGHT
TZOFFSETFROM:-0600
TZOFFSETTO:-0500
TZNAME:CDT
DTSTART:20240310T080000
END:DAYLIGHT
BEGIN:STANDARD
TZOFFSETFROM:-0500
TZOFFSETTO:-0600
TZNAME:CST
DTSTART:20241103T070000
END:STANDARD
BEGIN:DAYLIGHT
TZOFFSETFROM:-0600
TZOFFSETTO:-0500
TZNAME:CDT
DTSTART:20250309T080000
END:DAYLIGHT
BEGIN:STANDARD
TZOFFSETFROM:-0500
TZOFFSETTO:-0600
TZNAME:CST
DTSTART:20251102T070000
END:STANDARD
BEGIN:DAYLIGHT
TZOFFSETFROM:-0600
TZOFFSETTO:-0500
TZNAME:CDT
DTSTART:20260308T080000
END:DAYLIGHT
BEGIN:STANDARD
TZOFFSETFROM:-0500
TZOFFSETTO:-0600
TZNAME:CST
DTSTART:20261101T070000
END:STANDARD
END:VTIMEZONE
BEGIN:VEVENT
DTSTART;TZID=America/Chicago:20250629T150000
DTEND;TZID=America/Chicago:20250629T190000
DTSTAMP:20260424T054342
CREATED:20250308T173904Z
LAST-MODIFIED:20250621T042756Z
UID:4322-1751209200-1751223600@www.mnmarathi.org
SUMMARY:Salil Kulkarni - Dharohar
DESCRIPTION:धरोहर – वारसा स्वरांचा A Father- Son Concert \n\n\n\nगेल्या २८ वर्षांत अभंगांपासून बालगीतांपर्यंत आणि लावणी पासून रागमालेपर्यंत सर्व प्रकारच्या संगीतातून\, आपल्याला भरभरून आनंद देणारे लोकप्रिय संगीतकार – गायक आणि राष्ट्रीय पुरस्कार विजेते सिनेदिग्दर्शक सलीलकुलकर्णी आणि वयाच्या सहाव्या वर्षी सर्वोत्कृष्ट पार्श्वगायनाचा पुरस्कार मिळवलेला आणि एक तरुण गायक म्हणून स्वतःच्या अनेक रचना गायलेला आणि मराठी\, हिंदी आणि इंग्लिश संगीतात लीलया वावरणारा तरुण गायक शुभंकरकुलकर्णी ह्यांची originals आणि classics अशी बहुरंगी मैफल.  सोबत लोकप्रिय वादक – रितेशओहोळ\, आदित्यआठल्ये\, राजेंद्रदूरकरआणिदर्शनाजोग सोबत ध्वनिसंयोजक – निलेशयादव. Pricing :Members: $5  (everyone above 6 year) Non-Members: $15(everyone above 6 year)**(Kids below 5 years are free )**Book your tickets here :  LINKProgram outline is as follows :3:00 p.m. – 4:30 p.m. Registration\,Tea/Coffee4:30 p.m. – 7:00 p.m. originals आणि classics अशी बहुरंगी मैफलBaby sitting for kids above 5 years (Parents make sure to provide snacks and water with kids)4:00 p.m. – 4:20 p.m. Kids Drop Off7:00 pm- 7:20 p.m Kids Pickup **Download waiver form from here and this has to be sent to mam.committee@gmail.com before 26th June. Also keep digital copy with you to show at baby sitting room.**
URL:https://www.mnmarathi.org/event/salil-kulkarni-dharohar/
LOCATION:Eisenhower Community Center\, 1001 MN-7\, Hopkins\, Minnesota\, 55305\, United States
END:VEVENT
END:VCALENDAR