BEGIN:VCALENDAR
VERSION:2.0
PRODID:-//मराठी असोसिएशन ऑफ मिनेसोटा - ECPv6.15.20//NONSGML v1.0//EN
CALSCALE:GREGORIAN
METHOD:PUBLISH
X-WR-CALNAME:मराठी असोसिएशन ऑफ मिनेसोटा
X-ORIGINAL-URL:https://www.mnmarathi.org
X-WR-CALDESC:Events for मराठी असोसिएशन ऑफ मिनेसोटा
REFRESH-INTERVAL;VALUE=DURATION:PT1H
X-Robots-Tag:noindex
X-PUBLISHED-TTL:PT1H
BEGIN:VTIMEZONE
TZID:America/Chicago
BEGIN:DAYLIGHT
TZOFFSETFROM:-0600
TZOFFSETTO:-0500
TZNAME:CDT
DTSTART:20240310T080000
END:DAYLIGHT
BEGIN:STANDARD
TZOFFSETFROM:-0500
TZOFFSETTO:-0600
TZNAME:CST
DTSTART:20241103T070000
END:STANDARD
BEGIN:DAYLIGHT
TZOFFSETFROM:-0600
TZOFFSETTO:-0500
TZNAME:CDT
DTSTART:20250309T080000
END:DAYLIGHT
BEGIN:STANDARD
TZOFFSETFROM:-0500
TZOFFSETTO:-0600
TZNAME:CST
DTSTART:20251102T070000
END:STANDARD
BEGIN:DAYLIGHT
TZOFFSETFROM:-0600
TZOFFSETTO:-0500
TZNAME:CDT
DTSTART:20260308T080000
END:DAYLIGHT
BEGIN:STANDARD
TZOFFSETFROM:-0500
TZOFFSETTO:-0600
TZNAME:CST
DTSTART:20261101T070000
END:STANDARD
END:VTIMEZONE
BEGIN:VEVENT
DTSTART;TZID=America/Chicago:20250316T170000
DTEND;TZID=America/Chicago:20250316T193000
DTSTAMP:20260424T104243
CREATED:20241214T044142Z
LAST-MODIFIED:20241214T055823Z
UID:4236-1742144400-1742153400@www.mnmarathi.org
SUMMARY:The राहुल देशपांडे Collective
DESCRIPTION:🎶 Experience the Magic of Music with Rahul Deshpande! 🎶 \n\n\n\nThe Marathi Association of Minnesota (MAM) proudly presents a spectacular musical evening\, “The Rahul Deshpande Collective”\, featuring the renowned and versatile vocalist Rahul Deshpande and his talented ensemble. Prepare to be captivated by an unforgettable night of soulful melodies. \n\n\n\n\n\n\n\n\n\n\n\nDon’t miss this rare opportunity to witness the magic of Rahul Deshpande live in Minnesota! Join us for an evening that promises to touch your soul\, stir your emotions\, and leave you with memories to cherish forever. \n\n\n\n🌟 Book your tickets now and be part of this unforgettable musical journey! 🌟 \n\n\n\n\n\nBook Now\n\n\n\n\n\n\n\nIMPORTANT NOTES: \n\n\n\n\nNo refunds or exchanges once tickets are purchased. \n\n\n\nA discount code for program will be emailed to all MAM members on their registered email. Please use the same while purchasing tickets. If you are a MAM member and have not received the discount code\, please email us at mam.committee@gmail.com.\n\n\n\nPlease use your registered Name and email address with MAM for purchasing Member tickets.\n\n\n\nPlease make sure to either print the tickets at home or present a QR code to scan at the entry gates on the day of the event.
URL:https://www.mnmarathi.org/event/the-%e0%a4%b0%e0%a4%be%e0%a4%b9%e0%a5%81%e0%a4%b2-%e0%a4%a6%e0%a5%87%e0%a4%b6%e0%a4%aa%e0%a4%be%e0%a4%82%e0%a4%a1%e0%a5%87-collective/
LOCATION:Eden Prairie High School Performing Arts Center\, 17164-17198 Valley View Rd\,\, Eden Prairie\, Minnesota\, 55346\, United States
CATEGORIES:Entertainment
ATTACH;FMTTYPE=image/png:https://www.mnmarathi.org/wp-content/uploads/2024/12/Rahul_Deshpande_Collective.png
END:VEVENT
END:VCALENDAR