BEGIN:VCALENDAR
VERSION:2.0
PRODID:-//मराठी असोसिएशन ऑफ मिनेसोटा - ECPv6.15.20//NONSGML v1.0//EN
CALSCALE:GREGORIAN
METHOD:PUBLISH
X-WR-CALNAME:मराठी असोसिएशन ऑफ मिनेसोटा
X-ORIGINAL-URL:https://www.mnmarathi.org
X-WR-CALDESC:Events for मराठी असोसिएशन ऑफ मिनेसोटा
REFRESH-INTERVAL;VALUE=DURATION:PT1H
X-Robots-Tag:noindex
X-PUBLISHED-TTL:PT1H
BEGIN:VTIMEZONE
TZID:America/Chicago
BEGIN:DAYLIGHT
TZOFFSETFROM:-0600
TZOFFSETTO:-0500
TZNAME:CDT
DTSTART:20240310T080000
END:DAYLIGHT
BEGIN:STANDARD
TZOFFSETFROM:-0500
TZOFFSETTO:-0600
TZNAME:CST
DTSTART:20241103T070000
END:STANDARD
BEGIN:DAYLIGHT
TZOFFSETFROM:-0600
TZOFFSETTO:-0500
TZNAME:CDT
DTSTART:20250309T080000
END:DAYLIGHT
BEGIN:STANDARD
TZOFFSETFROM:-0500
TZOFFSETTO:-0600
TZNAME:CST
DTSTART:20251102T070000
END:STANDARD
BEGIN:DAYLIGHT
TZOFFSETFROM:-0600
TZOFFSETTO:-0500
TZNAME:CDT
DTSTART:20260308T080000
END:DAYLIGHT
BEGIN:STANDARD
TZOFFSETFROM:-0500
TZOFFSETTO:-0600
TZNAME:CST
DTSTART:20261101T070000
END:STANDARD
END:VTIMEZONE
BEGIN:VEVENT
DTSTART;TZID=America/Chicago:20250125T153000
DTEND;TZID=America/Chicago:20250125T203000
DTSTAMP:20260424T140043
CREATED:20241127T212755Z
LAST-MODIFIED:20241127T214002Z
UID:4134-1737819000-1737837000@www.mnmarathi.org
SUMMARY:Sankrant - 2025
DESCRIPTION:A Celebration of Tradition and Togetherness!\n\n\n\nGet ready to welcome the auspicious festival of Sankrant with a grand celebration brought to you by the Marathi Association of Minnesota (MAM)! Immerse yourself in the rich cultural heritage of Maharashtra while enjoying a day filled with festivities\, fun\, and delicious food. \n\n\n\nVenue\n\n\n\n\n\nDate and Time\n\n\n\n\n\nProgram Outline\n\n\n\n\n03:30 PM – 04:30 PM – Registration / Social Hour.\n\n\n\n04:30 PM – 06:00 PM – Cultural Program.\n\n\n\n06:00 PM – 06:30 PM –  Bornhaan.\n\n\n\n06:30 PM – 08:30 PM – Dinner.\n\n\n\n\nJoin us for this joyous occasion as we celebrate unity\, gratitude\, and the warmth of togetherness. Let’s come together as a community to create unforgettable memories this Sankrant! \n\n\n\n\n\nRSVP\n\n\n\n\n\nतिळगूळ घ्या\, गोड गोड बोला!
URL:https://www.mnmarathi.org/event/sankrant-2025/
LOCATION:Eisenhower Community Center\, 1001 MN-7\, Hopkins\, Minnesota\, 55305\, United States
ATTACH;FMTTYPE=image/jpeg:https://www.mnmarathi.org/wp-content/uploads/2024/11/makar_sankrant_2025.jpg
END:VEVENT
END:VCALENDAR