BEGIN:VCALENDAR
VERSION:2.0
PRODID:-//मराठी असोसिएशन ऑफ मिनेसोटा - ECPv6.15.20//NONSGML v1.0//EN
CALSCALE:GREGORIAN
METHOD:PUBLISH
X-ORIGINAL-URL:https://www.mnmarathi.org
X-WR-CALDESC:Events for मराठी असोसिएशन ऑफ मिनेसोटा
REFRESH-INTERVAL;VALUE=DURATION:PT1H
X-Robots-Tag:noindex
X-PUBLISHED-TTL:PT1H
BEGIN:VTIMEZONE
TZID:America/Chicago
BEGIN:DAYLIGHT
TZOFFSETFROM:-0600
TZOFFSETTO:-0500
TZNAME:CDT
DTSTART:20230312T080000
END:DAYLIGHT
BEGIN:STANDARD
TZOFFSETFROM:-0500
TZOFFSETTO:-0600
TZNAME:CST
DTSTART:20231105T070000
END:STANDARD
BEGIN:DAYLIGHT
TZOFFSETFROM:-0600
TZOFFSETTO:-0500
TZNAME:CDT
DTSTART:20240310T080000
END:DAYLIGHT
BEGIN:STANDARD
TZOFFSETFROM:-0500
TZOFFSETTO:-0600
TZNAME:CST
DTSTART:20241103T070000
END:STANDARD
BEGIN:DAYLIGHT
TZOFFSETFROM:-0600
TZOFFSETTO:-0500
TZNAME:CDT
DTSTART:20250309T080000
END:DAYLIGHT
BEGIN:STANDARD
TZOFFSETFROM:-0500
TZOFFSETTO:-0600
TZNAME:CST
DTSTART:20251102T070000
END:STANDARD
END:VTIMEZONE
BEGIN:VEVENT
DTSTART;TZID=America/Chicago:20240906T000000
DTEND;TZID=America/Chicago:20240915T235959
DTSTAMP:20260424T201928
CREATED:20240827T052300Z
LAST-MODIFIED:20240827T053309Z
UID:3956-1725580800-1726444799@www.mnmarathi.org
SUMMARY:Ganapati 2024
DESCRIPTION:Join us for the vibrant and joyous celebration of Ganapati Festival 2024 at MAM! This year\, we gather to honor Lord Ganesha\, the beloved remover of obstacles and the deity of wisdom and prosperity. The festival is a time for our community to come together in devotion\, celebration\, and cultural expression. So block your dates and join us from \n\n\n\n\n\n\n\n\n\n\n\n\n\n\n\nGanapati Sthapana on Friday September 6\,2024 \n\n\n\nGanapati Visarjan on Sunday September 15\,2024
URL:https://www.mnmarathi.org/event/ganapati-2024/
LOCATION:Hindu Temple of Minnesota\, 10530 Troy Ln N\,\, Maple Grove\, Minnesota\, 55311\, United States
ATTACH;FMTTYPE=image/png:https://www.mnmarathi.org/wp-content/uploads/2024/08/Ganapati_2024.png
END:VEVENT
BEGIN:VEVENT
DTSTART;TZID=America/Chicago:20240922T093000
DTEND;TZID=America/Chicago:20240922T133000
DTSTAMP:20260424T201928
CREATED:20240827T054714Z
LAST-MODIFIED:20240827T060814Z
UID:3966-1726997400-1727011800@www.mnmarathi.org
SUMMARY:Walk / Run 5K
DESCRIPTION:Join us for a fun and impactful day at the MAM & Chance Foundation Walk/Run 5K! This exciting event\, organized in collaboration with the Chance Foundation\, is more than just a race—it’s an opportunity to support a great cause while enjoying the outdoors with friends\, family\, and fellow community members. \n\n\n\n \n\n\n\n\n\n\n\n\n\nRegistration Fee : : $15 per person \n\n\n\n\n\nRegister \n\n\n\n\n\nThis is a wonderful opportunity to stay fit\, engage with your community\, and support a meaningful cause. Whether you’re aiming to set a new personal record or just enjoy a morning walk with friends\, we encourage you to join us for this special event.
URL:https://www.mnmarathi.org/event/walk-run-5k/
LOCATION:Elm Creek Park Reserve\, 12400 James Deane Pkwy\,\, Maple Grove\,\, Minnesota\, 55369\, United States
CATEGORIES:Activities
ATTACH;FMTTYPE=image/png:https://www.mnmarathi.org/wp-content/uploads/2024/08/Chance_foundation.png
END:VEVENT
END:VCALENDAR