BEGIN:VCALENDAR
VERSION:2.0
PRODID:-//मराठी असोसिएशन ऑफ मिनेसोटा - ECPv6.15.20//NONSGML v1.0//EN
CALSCALE:GREGORIAN
METHOD:PUBLISH
X-ORIGINAL-URL:https://www.mnmarathi.org
X-WR-CALDESC:Events for मराठी असोसिएशन ऑफ मिनेसोटा
REFRESH-INTERVAL;VALUE=DURATION:PT1H
X-Robots-Tag:noindex
X-PUBLISHED-TTL:PT1H
BEGIN:VTIMEZONE
TZID:America/Chicago
BEGIN:DAYLIGHT
TZOFFSETFROM:-0600
TZOFFSETTO:-0500
TZNAME:CDT
DTSTART:20250309T080000
END:DAYLIGHT
BEGIN:STANDARD
TZOFFSETFROM:-0500
TZOFFSETTO:-0600
TZNAME:CST
DTSTART:20251102T070000
END:STANDARD
BEGIN:DAYLIGHT
TZOFFSETFROM:-0600
TZOFFSETTO:-0500
TZNAME:CDT
DTSTART:20260308T080000
END:DAYLIGHT
BEGIN:STANDARD
TZOFFSETFROM:-0500
TZOFFSETTO:-0600
TZNAME:CST
DTSTART:20261101T070000
END:STANDARD
BEGIN:DAYLIGHT
TZOFFSETFROM:-0600
TZOFFSETTO:-0500
TZNAME:CDT
DTSTART:20270314T080000
END:DAYLIGHT
BEGIN:STANDARD
TZOFFSETFROM:-0500
TZOFFSETTO:-0600
TZNAME:CST
DTSTART:20271107T070000
END:STANDARD
END:VTIMEZONE
BEGIN:VEVENT
DTSTART;TZID=America/Chicago:20260711T080000
DTEND;TZID=America/Chicago:20260711T170000
DTSTAMP:20260423T191802
CREATED:20260415T021113Z
LAST-MODIFIED:20260415T021113Z
UID:4704-1783756800-1783789200@www.mnmarathi.org
SUMMARY:Picnic
DESCRIPTION:TBD – We’ll update location and time details shortly
URL:https://www.mnmarathi.org/event/picnic/
END:VEVENT
BEGIN:VEVENT
DTSTART;TZID=America/Chicago:20260801T080000
DTEND;TZID=America/Chicago:20260801T170000
DTSTAMP:20260423T191802
CREATED:20260415T021207Z
LAST-MODIFIED:20260415T021208Z
UID:4706-1785571200-1785603600@www.mnmarathi.org
SUMMARY:Mangalagaur
DESCRIPTION:TBD – We’ll share more details soon
URL:https://www.mnmarathi.org/event/mangalagaur-2/
END:VEVENT
BEGIN:VEVENT
DTSTART;TZID=America/Chicago:20260815T140000
DTEND;TZID=America/Chicago:20260815T200000
DTSTAMP:20260423T191802
CREATED:20260415T021330Z
LAST-MODIFIED:20260415T021331Z
UID:4708-1786802400-1786824000@www.mnmarathi.org
SUMMARY:India Fest
DESCRIPTION:
URL:https://www.mnmarathi.org/event/india-fest/
LOCATION:Minnesota State Capital Grounds\, 75 Rev Dr Martin Luther King Jr Boulevard\, St Paul\, Minnesota\, 55155\, United States
END:VEVENT
BEGIN:VEVENT
DTSTART;TZID=America/Chicago:20260914T080000
DTEND;TZID=America/Chicago:20260914T170000
DTSTAMP:20260423T191802
CREATED:20260415T021506Z
LAST-MODIFIED:20260415T021507Z
UID:4712-1789372800-1789405200@www.mnmarathi.org
SUMMARY:Ganapati Sthapana
DESCRIPTION:
URL:https://www.mnmarathi.org/event/ganapati-sthapana-2/
END:VEVENT
BEGIN:VEVENT
DTSTART;TZID=America/Chicago:20260920T080000
DTEND;TZID=America/Chicago:20260920T170000
DTSTAMP:20260423T191802
CREATED:20260415T021531Z
LAST-MODIFIED:20260415T021532Z
UID:4714-1789891200-1789923600@www.mnmarathi.org
SUMMARY:Ganapati Visarjan
DESCRIPTION:
URL:https://www.mnmarathi.org/event/ganapati-visarjan-2/
END:VEVENT
END:VCALENDAR