BEGIN:VCALENDAR
VERSION:2.0
PRODID:-//मराठी असोसिएशन ऑफ मिनेसोटा - ECPv6.15.20//NONSGML v1.0//EN
CALSCALE:GREGORIAN
METHOD:PUBLISH
X-WR-CALNAME:मराठी असोसिएशन ऑफ मिनेसोटा
X-ORIGINAL-URL:https://www.mnmarathi.org
X-WR-CALDESC:Events for मराठी असोसिएशन ऑफ मिनेसोटा
REFRESH-INTERVAL;VALUE=DURATION:PT1H
X-Robots-Tag:noindex
X-PUBLISHED-TTL:PT1H
BEGIN:VTIMEZONE
TZID:America/Chicago
BEGIN:DAYLIGHT
TZOFFSETFROM:-0600
TZOFFSETTO:-0500
TZNAME:CDT
DTSTART:20220313T080000
END:DAYLIGHT
BEGIN:STANDARD
TZOFFSETFROM:-0500
TZOFFSETTO:-0600
TZNAME:CST
DTSTART:20221106T070000
END:STANDARD
BEGIN:DAYLIGHT
TZOFFSETFROM:-0600
TZOFFSETTO:-0500
TZNAME:CDT
DTSTART:20230312T080000
END:DAYLIGHT
BEGIN:STANDARD
TZOFFSETFROM:-0500
TZOFFSETTO:-0600
TZNAME:CST
DTSTART:20231105T070000
END:STANDARD
BEGIN:DAYLIGHT
TZOFFSETFROM:-0600
TZOFFSETTO:-0500
TZNAME:CDT
DTSTART:20240310T080000
END:DAYLIGHT
BEGIN:STANDARD
TZOFFSETFROM:-0500
TZOFFSETTO:-0600
TZNAME:CST
DTSTART:20241103T070000
END:STANDARD
END:VTIMEZONE
BEGIN:VEVENT
DTSTART;TZID=America/Chicago:20231210T180000
DTEND;TZID=America/Chicago:20231210T210000
DTSTAMP:20260425T110152
CREATED:20231201T200722Z
LAST-MODIFIED:20231207T011450Z
UID:3284-1702231200-1702242000@www.mnmarathi.org
SUMMARY:Marathi Movie - Jhimma 2
DESCRIPTION:Marathi association of Minnesota\, in collaboration with Prime Media US\, is bringing Marathi Movie Jhimma-2 \n\n\n\nPlease follow this link for Ticket
URL:https://www.mnmarathi.org/event/jhimma-2/
LOCATION:Marcus Theater\, 8380 Hansen Ave\, Shakopee\, Minnesota\, 55379\, United States
END:VEVENT
BEGIN:VEVENT
DTSTART;TZID=America/Chicago:20231118T080000
DTEND;TZID=America/Chicago:20231118T170000
DTSTAMP:20260425T110152
CREATED:20231029T225819Z
LAST-MODIFIED:20231030T121346Z
UID:2385-1700294400-1700326800@www.mnmarathi.org
SUMMARY:Diwali 2023
DESCRIPTION:
URL:https://www.mnmarathi.org/event/diwali/
LOCATION:Park Center Senior High School\, 7300 Brooklyn Blvd\, Brooklyn Park\, Minnesota\, 55443\, United States
END:VEVENT
BEGIN:VEVENT
DTSTART;TZID=America/Chicago:20231021T180000
DTEND;TZID=America/Chicago:20231022T210000
DTSTAMP:20260425T110152
CREATED:20231029T230627Z
LAST-MODIFIED:20231029T230721Z
UID:2389-1697911200-1698008400@www.mnmarathi.org
SUMMARY:Dandiya / Bhondla 2023
DESCRIPTION:Entry Fee includes – Tea\, Indian dinner & Pizza for kidsPer Member (Adults)$15.00Per Non-Members (Adults)$20.00Student Member/Non Member50% Off On Adult PricingKids (Under 5)Free
URL:https://www.mnmarathi.org/event/dandiya-bhondla-2023/
LOCATION:Osseo Senior High School\, 317 2nd Ave NW\, Osseo\, MN\, 55369\, United States
END:VEVENT
END:VCALENDAR