BEGIN:VCALENDAR
VERSION:2.0
PRODID:-//मराठी असोसिएशन ऑफ मिनेसोटा - ECPv6.15.20//NONSGML v1.0//EN
CALSCALE:GREGORIAN
METHOD:PUBLISH
X-ORIGINAL-URL:https://www.mnmarathi.org
X-WR-CALDESC:Events for मराठी असोसिएशन ऑफ मिनेसोटा
REFRESH-INTERVAL;VALUE=DURATION:PT1H
X-Robots-Tag:noindex
X-PUBLISHED-TTL:PT1H
BEGIN:VTIMEZONE
TZID:America/Chicago
BEGIN:DAYLIGHT
TZOFFSETFROM:-0600
TZOFFSETTO:-0500
TZNAME:CDT
DTSTART:20250309T080000
END:DAYLIGHT
BEGIN:STANDARD
TZOFFSETFROM:-0500
TZOFFSETTO:-0600
TZNAME:CST
DTSTART:20251102T070000
END:STANDARD
BEGIN:DAYLIGHT
TZOFFSETFROM:-0600
TZOFFSETTO:-0500
TZNAME:CDT
DTSTART:20260308T080000
END:DAYLIGHT
BEGIN:STANDARD
TZOFFSETFROM:-0500
TZOFFSETTO:-0600
TZNAME:CST
DTSTART:20261101T070000
END:STANDARD
BEGIN:DAYLIGHT
TZOFFSETFROM:-0600
TZOFFSETTO:-0500
TZNAME:CDT
DTSTART:20270314T080000
END:DAYLIGHT
BEGIN:STANDARD
TZOFFSETFROM:-0500
TZOFFSETTO:-0600
TZNAME:CST
DTSTART:20271107T070000
END:STANDARD
END:VTIMEZONE
BEGIN:VEVENT
DTSTART;TZID=America/Chicago:20260321T030000
DTEND;TZID=America/Chicago:20260321T203000
DTSTAMP:20260423T161258
CREATED:20260318T030828Z
LAST-MODIFIED:20260318T031345Z
UID:4690-1774062000-1774125000@www.mnmarathi.org
SUMMARY:Shiv Jayanti Utsav
DESCRIPTION:✨ Dress Code: We encourage everyone to join in Traditional Wear to celebrate the spirit of Shiv Jayanti! 🚩 \n\n\n\n\n3:00 PM: Kite & Drawing/Poster Setup 🪁\n\n\n\n3:30 PM: Registration & Social Hour ☕\n\n\n\n4:30 PM: Cultural Program Starts 🎭\n\n\n\n6:30 PM: Dinner is Served 🍲\n\n\n\n8:30 PM: wrap up\n\n\n\n\n \n\n\n\nNote: Please arrive early for the competition setup or registration to ensure a smooth and timely start to our cultural program!
URL:https://www.mnmarathi.org/event/shiv-jayanti-utsav/
LOCATION:Eisenhower Community Center\, 1001 MN-7\, Hopkins\, Minnesota\, 55305\, United States
END:VEVENT
END:VCALENDAR