BEGIN:VCALENDAR
VERSION:2.0
PRODID:-//मराठी असोसिएशन ऑफ मिनेसोटा - ECPv6.15.20//NONSGML v1.0//EN
CALSCALE:GREGORIAN
METHOD:PUBLISH
X-WR-CALNAME:मराठी असोसिएशन ऑफ मिनेसोटा
X-ORIGINAL-URL:https://www.mnmarathi.org
X-WR-CALDESC:Events for मराठी असोसिएशन ऑफ मिनेसोटा
REFRESH-INTERVAL;VALUE=DURATION:PT1H
X-Robots-Tag:noindex
X-PUBLISHED-TTL:PT1H
BEGIN:VTIMEZONE
TZID:America/Chicago
BEGIN:DAYLIGHT
TZOFFSETFROM:-0600
TZOFFSETTO:-0500
TZNAME:CDT
DTSTART:20240310T080000
END:DAYLIGHT
BEGIN:STANDARD
TZOFFSETFROM:-0500
TZOFFSETTO:-0600
TZNAME:CST
DTSTART:20241103T070000
END:STANDARD
BEGIN:DAYLIGHT
TZOFFSETFROM:-0600
TZOFFSETTO:-0500
TZNAME:CDT
DTSTART:20250309T080000
END:DAYLIGHT
BEGIN:STANDARD
TZOFFSETFROM:-0500
TZOFFSETTO:-0600
TZNAME:CST
DTSTART:20251102T070000
END:STANDARD
BEGIN:DAYLIGHT
TZOFFSETFROM:-0600
TZOFFSETTO:-0500
TZNAME:CDT
DTSTART:20260308T080000
END:DAYLIGHT
BEGIN:STANDARD
TZOFFSETFROM:-0500
TZOFFSETTO:-0600
TZNAME:CST
DTSTART:20261101T070000
END:STANDARD
END:VTIMEZONE
BEGIN:VEVENT
DTSTART;TZID=America/Chicago:20250915T080000
DTEND;TZID=America/Chicago:20250915T170000
DTSTAMP:20260424T022654
CREATED:20250308T172652Z
LAST-MODIFIED:20250308T172654Z
UID:4314-1757923200-1757955600@www.mnmarathi.org
SUMMARY:Shala Start
DESCRIPTION:Get ready for first day of school
URL:https://www.mnmarathi.org/event/shala-start/
END:VEVENT
END:VCALENDAR