BEGIN:VCALENDAR
VERSION:2.0
PRODID:-//मराठी असोसिएशन ऑफ मिनेसोटा - ECPv6.15.20//NONSGML v1.0//EN
CALSCALE:GREGORIAN
METHOD:PUBLISH
X-ORIGINAL-URL:https://www.mnmarathi.org
X-WR-CALDESC:Events for मराठी असोसिएशन ऑफ मिनेसोटा
REFRESH-INTERVAL;VALUE=DURATION:PT1H
X-Robots-Tag:noindex
X-PUBLISHED-TTL:PT1H
BEGIN:VTIMEZONE
TZID:America/Chicago
BEGIN:DAYLIGHT
TZOFFSETFROM:-0600
TZOFFSETTO:-0500
TZNAME:CDT
DTSTART:20230312T080000
END:DAYLIGHT
BEGIN:STANDARD
TZOFFSETFROM:-0500
TZOFFSETTO:-0600
TZNAME:CST
DTSTART:20231105T070000
END:STANDARD
BEGIN:DAYLIGHT
TZOFFSETFROM:-0600
TZOFFSETTO:-0500
TZNAME:CDT
DTSTART:20240310T080000
END:DAYLIGHT
BEGIN:STANDARD
TZOFFSETFROM:-0500
TZOFFSETTO:-0600
TZNAME:CST
DTSTART:20241103T070000
END:STANDARD
BEGIN:DAYLIGHT
TZOFFSETFROM:-0600
TZOFFSETTO:-0500
TZNAME:CDT
DTSTART:20250309T080000
END:DAYLIGHT
BEGIN:STANDARD
TZOFFSETFROM:-0500
TZOFFSETTO:-0600
TZNAME:CST
DTSTART:20251102T070000
END:STANDARD
END:VTIMEZONE
BEGIN:VEVENT
DTSTART;TZID=America/Chicago:20240330T110000
DTEND;TZID=America/Chicago:20240330T130000
DTSTAMP:20260425T072138
CREATED:20240222T195009Z
LAST-MODIFIED:20240222T195011Z
UID:3755-1711796400-1711803600@www.mnmarathi.org
SUMMARY:Holi 2024
DESCRIPTION:Celebrate Festival of Colors with MAM\n\n\n\nDate and Time :March 30th 2024\, 11:00 AM to 1:00 PM\n\n\n\n\n\nLocation : \n\n\n\nHindu Temple of Minnesota\, 10530 Troy Ln N\, Maple Grove. MN 55311Hindu Mandir Grounds – HSMN Overflow Parking Space \n\n\n\n\n\nProgram Outline\n\n\n\n\nRegistration  – 11:00 AM – 11:15 AM \n\n\n\nHolika Dahan\, Dry Colors\, Followed by Light Snacks : 11:15 AM – 1:00 AM \n\n\n\n\nPricing \n\n\n\n\nMembers – Free\n\n\n\nNon Members : $10\n\n\n\n\nRSVP (Coming Soon)
URL:https://www.mnmarathi.org/event/holi-2024/
CATEGORIES:Festive
ATTACH;FMTTYPE=image/jpeg:https://www.mnmarathi.org/wp-content/uploads/2023/11/Holi_2023.jpeg
END:VEVENT
END:VCALENDAR